BEGIN:VCALENDAR
PRODID:-//Mozilla.org/NONSGML Mozilla Calendar V1.1//EN
VERSION:2.0
BEGIN:VEVENT
UID:69e8a7f7775d4
DTSTAMP:20260422T105031Z
DTSTART:20260710T100000Z
DTEND:20260711T100000Z
SUMMARY:Lookatmedia™ example calendar event 
DESCRIPTION:This is an example of how an event appears in a journalist's calendar https://www.lookatmedia.co/book-a-demo
END:VEVENT
END:VCALENDAR